BEGIN:VCALENDAR
VERSION:2.0
PRODID:icalendar-ruby
CALSCALE:GREGORIAN
METHOD:PUBLISH
BEGIN:VEVENT
DTSTAMP:20260421T150120Z
UID:318-1578315@fortsaskalliance.com
DTSTART:20261029T150000Z
DTEND:20261029T170000Z
CLASS:PUBLIC
CREATED:20260421T065856
DESCRIPTION:Join us for coffee! Everyone welcome!\nFor meet-up locations an
 d more info contact: Jim @ 780-887-7781 / jezeibin@shaw.ca or\nLarry @ 78
 0-901-5350 / saltwatercowboy6@gmail.com
LAST-MODIFIED:20260421T065856
LOCATION:
SUMMARY:Men's Coffee Time
URL;VALUE=URI:https://www.fortsaskalliance.com/events/mens-coffee-time/2026
 -10-29
ATTACH;FILENAME=Mens Coffee TIme WEb.jpg;FMTTYPE=image/jpeg:https://dq5pwpg
 1q8ru0.cloudfront.net/2022/03/16/14/17/40/0bac9af4-d511-4aed-8086-f0c6bbad
 0625/Mens%20Coffee%20TIme%20WEb.jpg
END:VEVENT
END:VCALENDAR
